BEGIN:VCALENDAR
VERSION:2.0
PRODID:-//Plone.org//NONSGML plone.app.event//EN
X-WR-TIMEZONE:Europe/Madrid
BEGIN:VEVENT
SUMMARY:INTANGIBLE. Festival d’art_tecnologia _ EINES I PROCESSOS CREAT
 IUS\, Taula rodona amb Anna Carreras\, Alba G. Corral i moderat per Mó
 nica Rikíc
DTSTART;TZID=Europe/Madrid;VALUE=DATE-TIME:20231027T200000
DTEND;TZID=Europe/Madrid;VALUE=DATE-TIME:20231027T210000
DTSTAMP;VALUE=DATE-TIME:20260422T170303Z
UID:4a545a7a1b8441dab41eaffd1e763033@www.paeria.cat
CATEGORIES:Joan Oró,Xerrades i conferències,Ciències i tecnologies
CREATED;VALUE=DATE-TIME:20231009T173522Z
LAST-MODIFIED;VALUE=DATE-TIME:20251104T135449Z
URL:https://www.paeria.cat/ca/actualitat/agenda/intangible-festival-d2019a
 rt_tecnologia-_-eines-i-processos-creatius-amb-anna-carreras-alba-g-corral
 -i-moderat-per-monica-rikic
END:VEVENT
BEGIN:VTIMEZONE
TZID:Europe/Madrid
X-LIC-LOCATION:Europe/Madrid
BEGIN:DAYLIGHT
DTSTART;VALUE=DATE-TIME:20230326T030000
TZNAME:CEST
TZOFFSETFROM:+0100
TZOFFSETTO:+0200
END:DAYLIGHT
END:VTIMEZONE
END:VCALENDAR
