BEGIN:VCALENDAR
VERSION:2.0
PRODID:-//Plone.org//NONSGML plone.app.event//EN
X-WR-TIMEZONE:Europe/Madrid
BEGIN:VEVENT
SUMMARY:INTANGIBLE. Festival d'art i tecnologia _ JOAN ORÓ. LA FÓRMULA D
 E LA VIDA
DTSTART;TZID=Europe/Madrid;VALUE=DATE-TIME:20231029T120000
DTSTAMP;VALUE=DATE-TIME:20260423T051818Z
UID:908079ea4ebd4c16a9ccaaaf4a459306@www.paeria.cat
CATEGORIES:Joan Oró,Cinema i vídeo
CREATED;VALUE=DATE-TIME:20231010T080158Z
LAST-MODIFIED;VALUE=DATE-TIME:20251104T135449Z
URL:https://www.paeria.cat/ca/actualitat/agenda/intangible-festival-dart-i
 -tecnologia-_-joan-oro-la-formula-de-la-vida
END:VEVENT
BEGIN:VTIMEZONE
TZID:Europe/Madrid
X-LIC-LOCATION:Europe/Madrid
BEGIN:STANDARD
DTSTART;VALUE=DATE-TIME:20231029T020000
TZNAME:CET
TZOFFSETFROM:+0200
TZOFFSETTO:+0100
END:STANDARD
END:VTIMEZONE
END:VCALENDAR
