BEGIN:VCALENDAR
VERSION:2.0
PRODID:-//Plone.org//NONSGML plone.app.event//EN
X-WR-TIMEZONE:Europe/Madrid
BEGIN:VEVENT
SUMMARY:Itinerari Magre al Museu Morera
DTSTART;VALUE=DATE:20240612
DTEND;VALUE=DATE:20240715
DTSTAMP;VALUE=DATE-TIME:20260420T074306Z
UID:6a66cdd9890149609440d5218ede22c6@www.paeria.cat
CREATED;VALUE=DATE-TIME:20240612T081319Z
DESCRIPTION:Recorregut dins l’exposició Arrels i horitzons. Més d’un
  segle d’artL’Itinerari
LAST-MODIFIED;VALUE=DATE-TIME:20240701T120856Z
URL:https://www.paeria.cat/ca/actualitat/agenda/itinerari-magre-al-museu-m
 orera
END:VEVENT
END:VCALENDAR
