BEGIN:VCALENDAR
VERSION:2.0
PRODID:-//Plone.org//NONSGML plone.app.event//EN
X-WR-TIMEZONE:Europe/Madrid
BEGIN:VEVENT
SUMMARY:JAUME MAGRE. MAPA SONOR D’UNA VIDA. Concert amb motiu del Centen
 ari de naixement de Jaume Magre i Servet
DTSTART;TZID=Europe/Madrid;VALUE=DATE-TIME:20241109T190000
DTEND;TZID=Europe/Madrid;VALUE=DATE-TIME:20241109T200000
DTSTAMP;VALUE=DATE-TIME:20260422T135846Z
UID:1657d4b28b2944e89a6427d59bd989dc@www.paeria.cat
CATEGORIES:Cultura,Música,Audiovisuals,Ciutadania,Públic
CREATED;VALUE=DATE-TIME:20241004T093840Z
DESCRIPTION:Al llarg del 2024 la ciutat de Lleida desplega tot un programa
  d’actes amb motiu del Centenari del naixement de Jaume Magre i Servet p
 er rememorar i honorar la figura i obra del qui fou l’impulsor de la cul
 tura amb majúscula a la nostra ciutat
LAST-MODIFIED;VALUE=DATE-TIME:20241004T094406Z
URL:https://www.paeria.cat/ca/actualitat/agenda/jaume-magre-mapa-sonor-d20
 19una-vida-concert-amb-motiu-del-centenari-de-naixement-de-jaume-magre-i-s
 ervet
END:VEVENT
BEGIN:VTIMEZONE
TZID:Europe/Madrid
X-LIC-LOCATION:Europe/Madrid
BEGIN:STANDARD
DTSTART;VALUE=DATE-TIME:20241027T020000
TZNAME:CET
TZOFFSETFROM:+0200
TZOFFSETTO:+0100
END:STANDARD
END:VTIMEZONE
END:VCALENDAR
