BEGIN:VCALENDAR
VERSION:2.0
PRODID:-//Plone.org//NONSGML plone.app.event//EN
X-WR-TIMEZONE:Europe/Madrid
BEGIN:VEVENT
SUMMARY:JAZZTARDOR- Meet Mr. Rabbit. The Legacy of Johnny Hodges Frank Rob
 erscheuten & Enric Peidro Quintet
DTSTART;TZID=Europe/Madrid;VALUE=DATE-TIME:20241124T200000
DTSTAMP;VALUE=DATE-TIME:20260422T191034Z
UID:1110ceca33ea4bc6a9a05687bb34072c@www.paeria.cat
CATEGORIES:Cultura,Música
CREATED;VALUE=DATE-TIME:20241120T155629Z
LAST-MODIFIED;VALUE=DATE-TIME:20250514T124119Z
URL:https://www.paeria.cat/ca/actualitat/agenda/jazztardor-meet-mr-rabbit-
 the-legacy-of-johnny-hodges-frank-roberscheuten-enric-peidro-quintet
END:VEVENT
BEGIN:VTIMEZONE
TZID:Europe/Madrid
X-LIC-LOCATION:Europe/Madrid
BEGIN:STANDARD
DTSTART;VALUE=DATE-TIME:20241027T020000
TZNAME:CET
TZOFFSETFROM:+0200
TZOFFSETTO:+0100
END:STANDARD
END:VTIMEZONE
END:VCALENDAR
