BEGIN:VCALENDAR
VERSION:2.0
PRODID:-//Plone.org//NONSGML plone.app.event//EN
X-WR-TIMEZONE:Europe/Madrid
BEGIN:VEVENT
SUMMARY:Jornada. Els certificats d'estalvi energètic (CAE): Regulació\, 
 aplicació i oportunitats al territori
DTSTART;TZID=Europe/Madrid;VALUE=DATE-TIME:20250617T093000
DTEND;TZID=Europe/Madrid;VALUE=DATE-TIME:20250617T131500
DTSTAMP;VALUE=DATE-TIME:20260422T200547Z
UID:c5cdb8af10574fb18be62928a103e92a@www.paeria.cat
CATEGORIES:Xerrades i conferències
CREATED;VALUE=DATE-TIME:20250528T093650Z
DESCRIPTION:Energia
LAST-MODIFIED;VALUE=DATE-TIME:20250528T093732Z
URL:https://www.paeria.cat/ca/actualitat/agenda/jornada-els-certificats-de
 stalvi-energetic-cae-regulacio-aplicacio-i-oportunitats-al-territori
END:VEVENT
BEGIN:VTIMEZONE
TZID:Europe/Madrid
X-LIC-LOCATION:Europe/Madrid
BEGIN:DAYLIGHT
DTSTART;VALUE=DATE-TIME:20250330T030000
TZNAME:CEST
TZOFFSETFROM:+0100
TZOFFSETTO:+0200
END:DAYLIGHT
END:VTIMEZONE
END:VCALENDAR
