BEGIN:VCALENDAR
VERSION:2.0
PRODID:-//Plone.org//NONSGML plone.app.event//EN
X-WR-TIMEZONE:Europe/Madrid
BEGIN:VEVENT
SUMMARY:Jornada- Nous reptes en la recerca biomèdica
DTSTART;TZID=Europe/Madrid;VALUE=DATE-TIME:20241010T180000
DTSTAMP;VALUE=DATE-TIME:20260422T150346Z
UID:6e2fa379096d4544bb88a8589be36a9c@www.paeria.cat
CATEGORIES:Cultura,Xerrades i conferències
CREATED;VALUE=DATE-TIME:20240927T094909Z
LAST-MODIFIED;VALUE=DATE-TIME:20250514T124243Z
URL:https://www.paeria.cat/ca/actualitat/agenda/jornada-nous-reptes-en-la-
 recerca-biomedica
END:VEVENT
BEGIN:VTIMEZONE
TZID:Europe/Madrid
X-LIC-LOCATION:Europe/Madrid
BEGIN:DAYLIGHT
DTSTART;VALUE=DATE-TIME:20240331T030000
TZNAME:CEST
TZOFFSETFROM:+0100
TZOFFSETTO:+0200
END:DAYLIGHT
END:VTIMEZONE
END:VCALENDAR
