BEGIN:VCALENDAR
VERSION:2.0
PRODID:-//Plone.org//NONSGML plone.app.event//EN
X-WR-TIMEZONE:Europe/Madrid
BEGIN:VEVENT
SUMMARY:Jornada Tricentenari del naixement d'Immanuel Kant (1724-1804)
DTSTART;TZID=Europe/Madrid;VALUE=DATE-TIME:20241004T100000
DTSTAMP;VALUE=DATE-TIME:20260422T201254Z
UID:abe781da3e8149bf8b8301a25e94e66e@www.paeria.cat
RRULE:FREQ=DAILY;UNTIL=20241005T000000
CATEGORIES:Cultura,Xerrades i conferències
CREATED;VALUE=DATE-TIME:20240913T072544Z
LAST-MODIFIED;VALUE=DATE-TIME:20250514T130149Z
URL:https://www.paeria.cat/ca/actualitat/agenda/jornada-tricentenari-del-n
 aixement-dimmanuel-kant-1724-1804
END:VEVENT
BEGIN:VTIMEZONE
TZID:Europe/Madrid
X-LIC-LOCATION:Europe/Madrid
BEGIN:DAYLIGHT
DTSTART;VALUE=DATE-TIME:20240331T030000
TZNAME:CEST
TZOFFSETFROM:+0100
TZOFFSETTO:+0200
END:DAYLIGHT
END:VTIMEZONE
END:VCALENDAR
