BEGIN:VCALENDAR
VERSION:2.0
PRODID:-//Plone.org//NONSGML plone.app.event//EN
X-WR-TIMEZONE:Europe/Madrid
BEGIN:VEVENT
SUMMARY:JORNADES DE PATRIMONI. Templer per un dia al Castell de Gardeny.
DTSTART;TZID=Europe/Madrid;VALUE=DATE-TIME:20251012T120000
DTEND;TZID=Europe/Madrid;VALUE=DATE-TIME:20251012T133000
DTSTAMP;VALUE=DATE-TIME:20260423T013300Z
UID:106152956e314e3da5da8de3c7b27b28@www.paeria.cat
CREATED;VALUE=DATE-TIME:20241004T091039Z
DESCRIPTION:Visita dinamitzada al Castell de Gardeny per conèixer de prim
 era mà com era la vida d´un cavaller templer. Entrada gratuïta dins el 
 marc de les Jornades Europees de Patrimoni.
LAST-MODIFIED;VALUE=DATE-TIME:20250927T102539Z
URL:https://www.paeria.cat/ca/actualitat/agenda/jornades-de-patrimoni-temp
 ler-per-un-dia-al-castell-de-gardeny
END:VEVENT
BEGIN:VTIMEZONE
TZID:Europe/Madrid
X-LIC-LOCATION:Europe/Madrid
BEGIN:DAYLIGHT
DTSTART;VALUE=DATE-TIME:20250330T030000
TZNAME:CEST
TZOFFSETFROM:+0100
TZOFFSETTO:+0200
END:DAYLIGHT
END:VTIMEZONE
END:VCALENDAR
