BEGIN:VCALENDAR
VERSION:2.0
PRODID:-//Plone.org//NONSGML plone.app.event//EN
X-WR-TIMEZONE:Europe/Madrid
BEGIN:VEVENT
SUMMARY:JORNADES DE PATRIMONI. Visita guiada al Castell templer de Gardeny
DTSTART;TZID=Europe/Madrid;VALUE=DATE-TIME:20241012T120000
DTSTAMP;VALUE=DATE-TIME:20260422T215358Z
UID:5584598839ae41838ce26aa1bd815cfe@www.paeria.cat
CREATED;VALUE=DATE-TIME:20241001T112013Z
DESCRIPTION:Visita guiada gratuïta dins del marc de les Jornades Europees
  de Patrimoni.
LAST-MODIFIED;VALUE=DATE-TIME:20241007T120042Z
URL:https://www.paeria.cat/ca/actualitat/agenda/jornades-de-patrimoni-visi
 ta-guiada-al-castell-templer-de-gardeny
END:VEVENT
BEGIN:VTIMEZONE
TZID:Europe/Madrid
X-LIC-LOCATION:Europe/Madrid
BEGIN:DAYLIGHT
DTSTART;VALUE=DATE-TIME:20240331T030000
TZNAME:CEST
TZOFFSETFROM:+0100
TZOFFSETTO:+0200
END:DAYLIGHT
END:VTIMEZONE
END:VCALENDAR
