BEGIN:VCALENDAR
VERSION:2.0
PRODID:-//Plone.org//NONSGML plone.app.event//EN
X-WR-TIMEZONE:Europe/Madrid
BEGIN:VEVENT
SUMMARY:Juguem a contes. Procés creatiu obert amb Tombs Creatius
DTSTART;TZID=Europe/Madrid;VALUE=DATE-TIME:20240521T170000
DTSTAMP;VALUE=DATE-TIME:20260420T225009Z
UID:1fd521687e2c479fa326fd2212f10f1e@www.paeria.cat
CATEGORIES:Infantil,Cultura
CREATED;VALUE=DATE-TIME:20240509T062424Z
LAST-MODIFIED;VALUE=DATE-TIME:20250514T124154Z
URL:https://www.paeria.cat/ca/actualitat/agenda/juguem-a-contes-proces-cre
 atiu-obert-amb-tombs-creatius
END:VEVENT
BEGIN:VTIMEZONE
TZID:Europe/Madrid
X-LIC-LOCATION:Europe/Madrid
BEGIN:DAYLIGHT
DTSTART;VALUE=DATE-TIME:20240331T030000
TZNAME:CEST
TZOFFSETFROM:+0100
TZOFFSETTO:+0200
END:DAYLIGHT
END:VTIMEZONE
END:VCALENDAR
