BEGIN:VCALENDAR
VERSION:2.0
PRODID:-//Plone.org//NONSGML plone.app.event//EN
X-WR-TIMEZONE:Europe/Madrid
BEGIN:VEVENT
SUMMARY:CANVI DE SOLISTA  Alba Ventura & Franz Schubert Filharmonia
DTSTART;TZID=Europe/Madrid;VALUE=DATE-TIME:20230226T190000
DTEND;TZID=Europe/Madrid;VALUE=DATE-TIME:20230226T210000
DTSTAMP;VALUE=DATE-TIME:20260423T051922Z
UID:de2cd99e5dbd432e8f10bad9ab3ebc0f@www.paeria.cat
CATEGORIES:Públic,Cultura,Música
CREATED;VALUE=DATE-TIME:20230112T090757Z
LAST-MODIFIED;VALUE=DATE-TIME:20260415T084249Z
URL:https://www.paeria.cat/ca/actualitat/agenda/katia-i-marielle-labeque-f
 ranz-schubert-filharmonia
END:VEVENT
BEGIN:VTIMEZONE
TZID:Europe/Madrid
X-LIC-LOCATION:Europe/Madrid
BEGIN:STANDARD
DTSTART;VALUE=DATE-TIME:20221030T020000
TZNAME:CET
TZOFFSETFROM:+0200
TZOFFSETTO:+0100
END:STANDARD
END:VTIMEZONE
END:VCALENDAR
