BEGIN:VCALENDAR
VERSION:2.0
PRODID:-//Plone.org//NONSGML plone.app.event//EN
X-WR-TIMEZONE:Europe/Madrid
BEGIN:VEVENT
SUMMARY:L’OCUPACIÓ MILITAR DE CATALUNYA: MARÇ 1938-FEBRER 1939
DTSTART;TZID=Europe/Madrid;VALUE=DATE-TIME:20260512T190000
DTEND;TZID=Europe/Madrid;VALUE=DATE-TIME:20260512T203000
DTSTAMP;VALUE=DATE-TIME:20260424T205803Z
UID:23ce29db0f854eceb535ce861b679410@www.paeria.cat
CATEGORIES:Cultura,Xerrades i conferències,Tots els públics
CREATED;VALUE=DATE-TIME:20260424T114932Z
DESCRIPTION:El proper 12 de maig de 2026\, dins el cicle Debats de Memòri
 a\, l’historiador Josep Maria Solé i Sabaté oferirà una conferència 
 dedicada a analitzar el procés d’ocupació militar de Catalunya durant 
 la fase final de la Guerra Civil. L’acte tindrà lloc a la sala Jaume Ma
 gre (carrer del Bisbe Torres\, 2) i començarà a les 19.00 hores.
LAST-MODIFIED;VALUE=DATE-TIME:20260424T114942Z
URL:https://www.paeria.cat/ca/actualitat/agenda/l2019ocupacio-militar-de-c
 atalunya-marc-1938-febrer-1939
END:VEVENT
BEGIN:VTIMEZONE
TZID:Europe/Madrid
X-LIC-LOCATION:Europe/Madrid
BEGIN:DAYLIGHT
DTSTART;VALUE=DATE-TIME:20260329T030000
TZNAME:CEST
TZOFFSETFROM:+0100
TZOFFSETTO:+0200
END:DAYLIGHT
END:VTIMEZONE
END:VCALENDAR
