BEGIN:VCALENDAR
VERSION:2.0
PRODID:-//Plone.org//NONSGML plone.app.event//EN
X-WR-TIMEZONE:Europe/Madrid
BEGIN:VEVENT
SUMMARY:L’ofici maleït\, amb Jordi Prenafeta
DTSTART;TZID=Europe/Madrid;VALUE=DATE-TIME:20260325T180000
DTEND;TZID=Europe/Madrid;VALUE=DATE-TIME:20260325T190000
DTSTAMP;VALUE=DATE-TIME:20260422T181828Z
UID:99424b79aa014f00bc17f15745318bf9@www.paeria.cat
CATEGORIES:Llibres i literatura
CREATED;VALUE=DATE-TIME:20260217T155941Z
DESCRIPTION:Recital poètic
LAST-MODIFIED;VALUE=DATE-TIME:20260306T131133Z
URL:https://www.paeria.cat/ca/actualitat/agenda/l2019ofici-maleit-amb-jord
 i-prenafeta
END:VEVENT
BEGIN:VTIMEZONE
TZID:Europe/Madrid
X-LIC-LOCATION:Europe/Madrid
BEGIN:STANDARD
DTSTART;VALUE=DATE-TIME:20251026T020000
TZNAME:CET
TZOFFSETFROM:+0200
TZOFFSETTO:+0100
END:STANDARD
END:VTIMEZONE
END:VCALENDAR
