BEGIN:VCALENDAR
VERSION:2.0
PRODID:-//Plone.org//NONSGML plone.app.event//EN
X-WR-TIMEZONE:Europe/Madrid
BEGIN:VEVENT
SUMMARY:La brama del cérvol (Una experiència única en un marc incompara
 ble.) La Calòrica
DTSTART;TZID=Europe/Madrid;VALUE=DATE-TIME:20260411T200000
DTEND;TZID=Europe/Madrid;VALUE=DATE-TIME:20260411T213000
DTSTAMP;VALUE=DATE-TIME:20260422T131836Z
UID:27b4224e75134f91bc57d731745708bb@www.paeria.cat
CATEGORIES:Cultura,Teatre
CREATED;VALUE=DATE-TIME:20260116T182520Z
LAST-MODIFIED;VALUE=DATE-TIME:20260116T183116Z
URL:https://www.paeria.cat/ca/actualitat/agenda/la-brama-del-cervol-una-ex
 periencia-unica-en-un-marc-incomparable-la-calorica
END:VEVENT
BEGIN:VTIMEZONE
TZID:Europe/Madrid
X-LIC-LOCATION:Europe/Madrid
BEGIN:DAYLIGHT
DTSTART;VALUE=DATE-TIME:20260329T030000
TZNAME:CEST
TZOFFSETFROM:+0100
TZOFFSETTO:+0200
END:DAYLIGHT
END:VTIMEZONE
END:VCALENDAR
