BEGIN:VCALENDAR
VERSION:2.0
PRODID:-//Plone.org//NONSGML plone.app.event//EN
X-WR-TIMEZONE:Europe/Madrid
BEGIN:VEVENT
SUMMARY:LA FAM ESPANYOLA: SILENCI\, VICTÒRIA I MORT A LA POSTGUERRA FRANQ
 UISTA
DTSTART;TZID=Europe/Madrid;VALUE=DATE-TIME:20260422T190000
DTEND;TZID=Europe/Madrid;VALUE=DATE-TIME:20260422T203000
DTSTAMP;VALUE=DATE-TIME:20260423T022421Z
UID:196d7c807598410b923e878e9e54a10f@www.paeria.cat
CATEGORIES:Xerrades i conferències,Tots els públics,Cultura
CREATED;VALUE=DATE-TIME:20260320T134112Z
DESCRIPTION:El Departament de Drets Civils de la Paeria presenta una nova 
 edició dels Debats de Memòria\, que tindrà lloc el dimecres 18 de febre
 r de 2026\, amb la conferència titulada “La fam espanyola: silenci\, vi
 ctòria i mort a la postguerra franquista”\, a càrrec del professor de 
 la Universitat de Granada\, Miguel Ángel del Arco Blanco.
LAST-MODIFIED;VALUE=DATE-TIME:20260320T134127Z
URL:https://www.paeria.cat/ca/actualitat/agenda/la-fam-espanyola-silenci-v
 ictoria-i-mort-a-la-postguerra-franquista
END:VEVENT
BEGIN:VTIMEZONE
TZID:Europe/Madrid
X-LIC-LOCATION:Europe/Madrid
BEGIN:DAYLIGHT
DTSTART;VALUE=DATE-TIME:20260329T030000
TZNAME:CEST
TZOFFSETFROM:+0100
TZOFFSETTO:+0200
END:DAYLIGHT
END:VTIMEZONE
END:VCALENDAR
