BEGIN:VCALENDAR
VERSION:2.0
PRODID:-//Plone.org//NONSGML plone.app.event//EN
X-WR-TIMEZONE:Europe/Madrid
BEGIN:VEVENT
SUMMARY:LA GUERRA CIVIL VISTA DES DEL TOSSAL DE MORADILLA
DTSTART;TZID=Europe/Madrid;VALUE=DATE-TIME:20220424T110000
DTSTAMP;VALUE=DATE-TIME:20260420T071650Z
UID:6e3385b74b244d4c8054923f9f5a564f@www.paeria.cat
CATEGORIES:Itineraris i visites,Tots els públics
CREATED;VALUE=DATE-TIME:20221221T101449Z
DESCRIPTION:Itinerari per a la Recuperació de la Memòria Democràtica
LAST-MODIFIED;VALUE=DATE-TIME:20221223T121016Z
URL:https://www.paeria.cat/ca/actualitat/agenda/la-guerra-civil-vista-des-
 del-tossal-de-moradilla
END:VEVENT
BEGIN:VTIMEZONE
TZID:Europe/Madrid
X-LIC-LOCATION:Europe/Madrid
BEGIN:DAYLIGHT
DTSTART;VALUE=DATE-TIME:20220327T030000
TZNAME:CEST
TZOFFSETFROM:+0100
TZOFFSETTO:+0200
END:DAYLIGHT
END:VTIMEZONE
END:VCALENDAR
