BEGIN:VCALENDAR
VERSION:2.0
PRODID:-//Plone.org//NONSGML plone.app.event//EN
X-WR-TIMEZONE:Europe/Madrid
BEGIN:VEVENT
SUMMARY:LA GUERRA S’ACABA... COMENÇA LA VICTÒRIA. LA DICTADURA FRANQUI
 STA
DTSTART;TZID=Europe/Madrid;VALUE=DATE-TIME:20250424T190000
DTSTAMP;VALUE=DATE-TIME:20260423T073100Z
UID:de47c1a8bf4c4b90a9e18ad882a18684@www.paeria.cat
CATEGORIES:Tots els públics,Xerrades i conferències
CREATED;VALUE=DATE-TIME:20250417T102726Z
DESCRIPTION:DEBATS DE MEMÒRIA
LAST-MODIFIED;VALUE=DATE-TIME:20250514T130620Z
URL:https://www.paeria.cat/ca/actualitat/agenda/la-guerra-s2019acaba-comen
 ca-la-victoria-la-dictadura-franquista
END:VEVENT
BEGIN:VTIMEZONE
TZID:Europe/Madrid
X-LIC-LOCATION:Europe/Madrid
BEGIN:DAYLIGHT
DTSTART;VALUE=DATE-TIME:20250330T030000
TZNAME:CEST
TZOFFSETFROM:+0100
TZOFFSETTO:+0200
END:DAYLIGHT
END:VTIMEZONE
END:VCALENDAR
