BEGIN:VCALENDAR
VERSION:2.0
PRODID:-//Plone.org//NONSGML plone.app.event//EN
X-WR-TIMEZONE:Europe/Madrid
BEGIN:VEVENT
SUMMARY:ENTRADES EXHAURIDES:  La muda de Marina Guiu
DTSTART;TZID=Europe/Madrid;VALUE=DATE-TIME:20240112T200000
DTEND;TZID=Europe/Madrid;VALUE=DATE-TIME:20240112T210000
DTSTAMP;VALUE=DATE-TIME:20260422T174724Z
UID:5fc7e023e9a348e595df458ad36efef8@www.paeria.cat
CATEGORIES:Cultura
CREATED;VALUE=DATE-TIME:20231229T120040Z
LAST-MODIFIED;VALUE=DATE-TIME:20260415T084334Z
URL:https://www.paeria.cat/ca/actualitat/agenda/la-muda-de-marina-guiu
END:VEVENT
BEGIN:VTIMEZONE
TZID:Europe/Madrid
X-LIC-LOCATION:Europe/Madrid
BEGIN:STANDARD
DTSTART;VALUE=DATE-TIME:20231029T020000
TZNAME:CET
TZOFFSETFROM:+0200
TZOFFSETTO:+0100
END:STANDARD
END:VTIMEZONE
END:VCALENDAR
