BEGIN:VCALENDAR
VERSION:2.0
PRODID:-//Plone.org//NONSGML plone.app.event//EN
X-WR-TIMEZONE:Europe/Madrid
BEGIN:VEVENT
SUMMARY:La Traviata. Fundació Òpera a Catalunya
DTSTART;TZID=Europe/Madrid;VALUE=DATE-TIME:20260513T200000
DTEND;TZID=Europe/Madrid;VALUE=DATE-TIME:20260513T230000
DTSTAMP;VALUE=DATE-TIME:20260423T160404Z
UID:cccbc1cd8f6b468eb58a0a6358e271a1@www.paeria.cat
CATEGORIES:Música
CREATED;VALUE=DATE-TIME:20260116T183738Z
LAST-MODIFIED;VALUE=DATE-TIME:20260202T124935Z
URL:https://www.paeria.cat/ca/actualitat/agenda/la-traviata-fundacio-opera
 -a-catalunya
END:VEVENT
BEGIN:VTIMEZONE
TZID:Europe/Madrid
X-LIC-LOCATION:Europe/Madrid
BEGIN:DAYLIGHT
DTSTART;VALUE=DATE-TIME:20260329T030000
TZNAME:CEST
TZOFFSETFROM:+0100
TZOFFSETTO:+0200
END:DAYLIGHT
END:VTIMEZONE
END:VCALENDAR
