BEGIN:VCALENDAR
VERSION:2.0
PRODID:-//Plone.org//NONSGML plone.app.event//EN
X-WR-TIMEZONE:Europe/Madrid
BEGIN:VEVENT
SUMMARY:Las criadas amb Yin Teatre Pobre
DTSTART;TZID=Europe/Madrid;VALUE=DATE-TIME:20241026T200000
DTEND;TZID=Europe/Madrid;VALUE=DATE-TIME:20241026T210000
DTSTAMP;VALUE=DATE-TIME:20260422T135632Z
UID:c847b0213a234184afa9e40922274de0@www.paeria.cat
CREATED;VALUE=DATE-TIME:20240719T102646Z
LAST-MODIFIED;VALUE=DATE-TIME:20240719T102955Z
URL:https://www.paeria.cat/ca/actualitat/agenda/las-criadas-amb-yin-teatre
 -pobre
END:VEVENT
BEGIN:VTIMEZONE
TZID:Europe/Madrid
X-LIC-LOCATION:Europe/Madrid
BEGIN:DAYLIGHT
DTSTART;VALUE=DATE-TIME:20240331T030000
TZNAME:CEST
TZOFFSETFROM:+0100
TZOFFSETTO:+0200
END:DAYLIGHT
END:VTIMEZONE
END:VCALENDAR
