BEGIN:VCALENDAR
VERSION:2.0
PRODID:-//Plone.org//NONSGML plone.app.event//EN
X-WR-TIMEZONE:Europe/Madrid
BEGIN:VEVENT
SUMMARY:Llarga Marxa Internacionalista\, de l'entitat Ponent amb Kurdistan
DTSTART;TZID=Europe/Madrid;VALUE=DATE-TIME:20230125T190000
DTEND;TZID=Europe/Madrid;VALUE=DATE-TIME:20230125T200000
DTSTAMP;VALUE=DATE-TIME:20260422T135624Z
UID:2309fa1da9a2413ba5820797a8edecb0@www.paeria.cat
CATEGORIES:Públic,Xerrades i conferències,Ciutadania
CREATED;VALUE=DATE-TIME:20230124T094337Z
DESCRIPTION:Acte simbòlic en reivindicació de la lluita kurda. Acte anua
 l\, gratuït i obert a tota la ciutadania\, organitzat per "Ponent amb Kur
 distan".\n\nLa roda de premsa tindrà lloc aquest dimecres 25 de gener a l
 es 19h\, a la Sala Paulo Freire\, de la Regidoria d'Educació\, Cooperaci
 ó\, Drets Civils i Feminismes.
LAST-MODIFIED;VALUE=DATE-TIME:20250514T130709Z
URL:https://www.paeria.cat/ca/actualitat/agenda/llarga-marxa-internacional
 ista-de-lentitat-ponent-amb-kurdistan
END:VEVENT
BEGIN:VTIMEZONE
TZID:Europe/Madrid
X-LIC-LOCATION:Europe/Madrid
BEGIN:STANDARD
DTSTART;VALUE=DATE-TIME:20221030T020000
TZNAME:CET
TZOFFSETFROM:+0200
TZOFFSETTO:+0100
END:STANDARD
END:VTIMEZONE
END:VCALENDAR
