BEGIN:VCALENDAR
VERSION:2.0
PRODID:-//Plone.org//NONSGML plone.app.event//EN
X-WR-TIMEZONE:Europe/Madrid
BEGIN:VEVENT
SUMMARY:LLEIDA\, PEDRA I FERRO. Exposició col·lectiva al Castell de Gard
 eny.
DTSTART;TZID=Europe/Madrid;VALUE=DATE-TIME:20240924T090000
DTEND;TZID=Europe/Madrid;VALUE=DATE-TIME:20241025T100000
DTSTAMP;VALUE=DATE-TIME:20260420T045808Z
UID:743d74a0a902486c84fb6aa09b431d74@www.paeria.cat
CREATED;VALUE=DATE-TIME:20241003T121528Z
DESCRIPTION:Exposició col·lectiva.\nFotografies de Ramon Lladós i Enric
  Rodríguez.\nEscultures d´Amadeu Bonet.
LAST-MODIFIED;VALUE=DATE-TIME:20241017T081542Z
URL:https://www.paeria.cat/ca/actualitat/agenda/lleida-pedra-i-ferro-expos
 icio-col-lectiva-al-castell-de-gardeny
END:VEVENT
BEGIN:VTIMEZONE
TZID:Europe/Madrid
X-LIC-LOCATION:Europe/Madrid
BEGIN:DAYLIGHT
DTSTART;VALUE=DATE-TIME:20240331T030000
TZNAME:CEST
TZOFFSETFROM:+0100
TZOFFSETTO:+0200
END:DAYLIGHT
END:VTIMEZONE
END:VCALENDAR
