BEGIN:VCALENDAR
VERSION:2.0
PRODID:-//Plone.org//NONSGML plone.app.event//EN
X-WR-TIMEZONE:Europe/Madrid
BEGIN:VEVENT
SUMMARY:L'Orfeó regala Nadal. Concert de l'Escola Coral\, Cor Jove i Cor 
 de l'Orfeó Lleidatà a la Plaça Paeria
DTSTART;TZID=Europe/Madrid;VALUE=DATE-TIME:20231221T180000
DTEND;TZID=Europe/Madrid;VALUE=DATE-TIME:20231221T190000
DTSTAMP;VALUE=DATE-TIME:20260422T170250Z
UID:5f5856fca2eb494e870a7bf58897ee3b@www.paeria.cat
CATEGORIES:Cultura,Cultura popular,Música,Tots els públics
CREATED;VALUE=DATE-TIME:20231130T083430Z
DESCRIPTION:18h Coral de Vailets  / 18.30 h. Coral de Xiquets  / 19 h. C
 or Jove  / 19.30 h. Cor de l'Orfeó Lleidatà
LAST-MODIFIED;VALUE=DATE-TIME:20231130T090040Z
URL:https://www.paeria.cat/ca/actualitat/agenda/lorfeo-regala-nadal-concer
 t-de-lescola-coral-cor-jove-i-cor-de-lorfeo-lleidata-a-la-placa-paeria
END:VEVENT
BEGIN:VTIMEZONE
TZID:Europe/Madrid
X-LIC-LOCATION:Europe/Madrid
BEGIN:STANDARD
DTSTART;VALUE=DATE-TIME:20231029T020000
TZNAME:CET
TZOFFSETFROM:+0200
TZOFFSETTO:+0100
END:STANDARD
END:VTIMEZONE
END:VCALENDAR
