BEGIN:VCALENDAR
VERSION:2.0
PRODID:-//Plone.org//NONSGML plone.app.event//EN
X-WR-TIMEZONE:Europe/Madrid
BEGIN:VEVENT
SUMMARY:MANCARENA DELACRÚ. LA VEU ESQUERRA DE LA COPLA
DTSTART;TZID=Europe/Madrid;VALUE=DATE-TIME:20260308T190000
DTEND;TZID=Europe/Madrid;VALUE=DATE-TIME:20260308T210000
DTSTAMP;VALUE=DATE-TIME:20260422T135624Z
UID:04edcbb4c8754098b7b02546b2883028@www.paeria.cat
CATEGORIES:Art,Teatre,Tots els públics,Cultura
CREATED;VALUE=DATE-TIME:20260305T104118Z
DESCRIPTION:El Departament de Drets Civils presenta un espectacle de músi
 ca i textos que revisita la memòria històrica des d’una mirada crític
 a i artística. Mancarena Delacrú. La veu esquerra de la copla és una pr
 oposta escènica creada per Jaume Belló\, amb l’acompanyament musical d
 e Pancho Marrodán\, la veu poètica de Núria Pujol i la participació de
  Sílvia Solé\, de la Companyia La Màxima.
LAST-MODIFIED;VALUE=DATE-TIME:20260305T104858Z
URL:https://www.paeria.cat/ca/actualitat/agenda/mancarena-delacru-la-veu-e
 squerra-de-la-copla-1
END:VEVENT
BEGIN:VTIMEZONE
TZID:Europe/Madrid
X-LIC-LOCATION:Europe/Madrid
BEGIN:STANDARD
DTSTART;VALUE=DATE-TIME:20251026T020000
TZNAME:CET
TZOFFSETFROM:+0200
TZOFFSETTO:+0100
END:STANDARD
END:VTIMEZONE
END:VCALENDAR
