BEGIN:VCALENDAR
VERSION:2.0
PRODID:-//Plone.org//NONSGML plone.app.event//EN
X-WR-TIMEZONE:Europe/Madrid
BEGIN:VEVENT
SUMMARY:Matinals de cinema- Almas en pena de Inisherin
DTSTART;TZID=Europe/Madrid;VALUE=DATE-TIME:20241030T103000
DTSTAMP;VALUE=DATE-TIME:20260422T144126Z
UID:70d716086fd1489b8b25371637f94204@www.paeria.cat
CATEGORIES:Audiovisuals,Cinema i vídeo,Cultura
CREATED;VALUE=DATE-TIME:20240729T150153Z
LAST-MODIFIED;VALUE=DATE-TIME:20240729T150505Z
URL:https://www.paeria.cat/ca/actualitat/agenda/matinals-de-cinema-almas-e
 n-pena-de-inisherin
END:VEVENT
BEGIN:VTIMEZONE
TZID:Europe/Madrid
X-LIC-LOCATION:Europe/Madrid
BEGIN:STANDARD
DTSTART;VALUE=DATE-TIME:20241027T020000
TZNAME:CET
TZOFFSETFROM:+0200
TZOFFSETTO:+0100
END:STANDARD
END:VTIMEZONE
END:VCALENDAR
