BEGIN:VCALENDAR
VERSION:2.0
PRODID:-//Plone.org//NONSGML plone.app.event//EN
X-WR-TIMEZONE:Europe/Madrid
BEGIN:VEVENT
SUMMARY:Matinals de cinema- Elles parlen
DTSTART;TZID=Europe/Madrid;VALUE=DATE-TIME:20241023T103000
DTSTAMP;VALUE=DATE-TIME:20260423T181758Z
UID:6f694ce0bdcb4ce289de68b1f7cfce43@www.paeria.cat
CATEGORIES:Audiovisuals,Cinema i vídeo,Cultura
CREATED;VALUE=DATE-TIME:20240729T144454Z
LAST-MODIFIED;VALUE=DATE-TIME:20240729T144702Z
URL:https://www.paeria.cat/ca/actualitat/agenda/matinals-de-cinema-elles-p
 arlen
END:VEVENT
BEGIN:VTIMEZONE
TZID:Europe/Madrid
X-LIC-LOCATION:Europe/Madrid
BEGIN:DAYLIGHT
DTSTART;VALUE=DATE-TIME:20240331T030000
TZNAME:CEST
TZOFFSETFROM:+0100
TZOFFSETTO:+0200
END:DAYLIGHT
END:VTIMEZONE
END:VCALENDAR
