BEGIN:VCALENDAR
VERSION:2.0
PRODID:-//Plone.org//NONSGML plone.app.event//EN
X-WR-TIMEZONE:Europe/Madrid
BEGIN:VEVENT
SUMMARY:Micro Obert - Bucs d'assaig - 16 gener
DTSTART;TZID=Europe/Madrid;VALUE=DATE-TIME:20260116T210000
DTEND;TZID=Europe/Madrid;VALUE=DATE-TIME:20260116T223000
DTSTAMP;VALUE=DATE-TIME:20260420T221201Z
UID:2d325db5e72b474a991dcc6c3952b4de@www.paeria.cat
CATEGORIES:Música,Joves
CREATED;VALUE=DATE-TIME:20260108T123423Z
LAST-MODIFIED;VALUE=DATE-TIME:20260202T115257Z
URL:https://www.paeria.cat/ca/actualitat/agenda/micro-obert-bucs-dassaig-1
 6-gener
END:VEVENT
BEGIN:VTIMEZONE
TZID:Europe/Madrid
X-LIC-LOCATION:Europe/Madrid
BEGIN:STANDARD
DTSTART;VALUE=DATE-TIME:20251026T020000
TZNAME:CET
TZOFFSETFROM:+0200
TZOFFSETTO:+0100
END:STANDARD
END:VTIMEZONE
END:VCALENDAR
