BEGIN:VCALENDAR
VERSION:2.0
PRODID:-//Plone.org//NONSGML plone.app.event//EN
X-WR-TIMEZONE:Europe/Madrid
BEGIN:VEVENT
SUMMARY:Mort d'un comediant. De Guillem Clua amb Jordi Bosch\, Mercè Pons
  i Francesc Marginet
DTSTART;TZID=Europe/Madrid;VALUE=DATE-TIME:20251018T200000
DTEND;TZID=Europe/Madrid;VALUE=DATE-TIME:20251018T213000
DTSTAMP;VALUE=DATE-TIME:20260423T051815Z
UID:b845d1aab8784a12b09927a29ceb673f@www.paeria.cat
CATEGORIES:Cultura,Teatre
CREATED;VALUE=DATE-TIME:20250529T134610Z
LAST-MODIFIED;VALUE=DATE-TIME:20250530T131853Z
URL:https://www.paeria.cat/ca/actualitat/agenda/mort-dun-comediant-de-guil
 lem-clua-amb-jordi-bosch-merce-pons-i-francesc-marginet
END:VEVENT
BEGIN:VTIMEZONE
TZID:Europe/Madrid
X-LIC-LOCATION:Europe/Madrid
BEGIN:DAYLIGHT
DTSTART;VALUE=DATE-TIME:20250330T030000
TZNAME:CEST
TZOFFSETFROM:+0100
TZOFFSETTO:+0200
END:DAYLIGHT
END:VTIMEZONE
END:VCALENDAR
