BEGIN:VCALENDAR
VERSION:2.0
PRODID:-//Plone.org//NONSGML plone.app.event//EN
X-WR-TIMEZONE:Europe/Madrid
BEGIN:VEVENT
SUMMARY:Mostra de Dansa DID 2024. Lectura del manifest del Dia Internacion
 al de la Dansa i mostra amb Human 21’ de David Consuegra i Sandra Valls
DTSTART;TZID=Europe/Madrid;VALUE=DATE-TIME:20240429T173000
DTEND;TZID=Europe/Madrid;VALUE=DATE-TIME:20240429T183000
DTSTAMP;VALUE=DATE-TIME:20260422T223143Z
UID:92a2e587df594e72b90fa724e5dc3eb0@www.paeria.cat
CATEGORIES:Cultura,Dansa,Dies assenyalats
CREATED;VALUE=DATE-TIME:20240416T151103Z
LAST-MODIFIED;VALUE=DATE-TIME:20240429T114826Z
URL:https://www.paeria.cat/ca/actualitat/agenda/mostra-de-dansa-did-2024-l
 ectura-del-manifest-a-proposit-del-dia-internacional-de-la-dansa-per-part-
 de-l2019associacio-de-professionals-de-la-dansa-de-catalunya-human-212019-
 de-david-consuegra-i-sandra-valls
END:VEVENT
BEGIN:VTIMEZONE
TZID:Europe/Madrid
X-LIC-LOCATION:Europe/Madrid
BEGIN:DAYLIGHT
DTSTART;VALUE=DATE-TIME:20240331T030000
TZNAME:CEST
TZOFFSETFROM:+0100
TZOFFSETTO:+0200
END:DAYLIGHT
END:VTIMEZONE
END:VCALENDAR
