BEGIN:VCALENDAR
VERSION:2.0
PRODID:-//Plone.org//NONSGML plone.app.event//EN
X-WR-TIMEZONE:Europe/Madrid
BEGIN:VEVENT
SUMMARY:Mozart i Beethoven: l'equilibri i la fúria. Quartet Teixidor
DTSTART;TZID=Europe/Madrid;VALUE=DATE-TIME:20240530T200000
DTEND;TZID=Europe/Madrid;VALUE=DATE-TIME:20240530T210000
DTSTAMP;VALUE=DATE-TIME:20260422T144739Z
UID:469b51725a104ff6a8a4ea361dfbcbca@www.paeria.cat
CATEGORIES:Públic,Cultura,Música
CREATED;VALUE=DATE-TIME:20240201T121605Z
DESCRIPTION:Concert de cambra
LAST-MODIFIED;VALUE=DATE-TIME:20260415T084357Z
URL:https://www.paeria.cat/ca/actualitat/agenda/mozart-i-beethoven-lquilib
 ri-i-la-furia-quartet-teixidor-1
END:VEVENT
BEGIN:VTIMEZONE
TZID:Europe/Madrid
X-LIC-LOCATION:Europe/Madrid
BEGIN:DAYLIGHT
DTSTART;VALUE=DATE-TIME:20240331T030000
TZNAME:CEST
TZOFFSETFROM:+0100
TZOFFSETTO:+0200
END:DAYLIGHT
END:VTIMEZONE
END:VCALENDAR
