BEGIN:VCALENDAR
VERSION:2.0
PRODID:-//Plone.org//NONSGML plone.app.event//EN
X-WR-TIMEZONE:Europe/Madrid
BEGIN:VEVENT
SUMMARY:Música. Noves escultures de Miguel Ángel González
DTSTART;VALUE=DATE:20231214
DTEND;VALUE=DATE:20240205
DTSTAMP;VALUE=DATE-TIME:20260423T031238Z
UID:ed526a3b1f41456c909b67a2f0991937@www.paeria.cat
CATEGORIES:Cultura,Exposicions,Música
CREATED;VALUE=DATE-TIME:20231127T132501Z
DESCRIPTION:L'exposició presenta la nova col·lecció d’escultures amb 
 ferro\, hacer i fusta de Miguel Ángel González. Un conjunt d’esculture
 s al voltant de la música\, plenes d'humanitat\, dimensionalitat i harmon
 ia.
LAST-MODIFIED;VALUE=DATE-TIME:20240115T120336Z
URL:https://www.paeria.cat/ca/actualitat/agenda/musica-noves-escultures-de
 -miguel-angel-gonzalez
END:VEVENT
END:VCALENDAR
