BEGIN:VCALENDAR
VERSION:2.0
PRODID:-//Plone.org//NONSGML plone.app.event//EN
X-WR-TIMEZONE:Europe/Madrid
BEGIN:VEVENT
SUMMARY:ENTRADES EXHAURIDES  Músiques per a un nou món amb l'Orquestra S
 imfònica del Gran Teatre del Liceu. Amb Feliu Gasull i Sílvia Pérez Cru
 z
DTSTART;TZID=Europe/Madrid;VALUE=DATE-TIME:20230616T200000
DTEND;TZID=Europe/Madrid;VALUE=DATE-TIME:20230616T220000
DTSTAMP;VALUE=DATE-TIME:20260422T134517Z
UID:c26153448b2a4f56868d7610edc6b044@www.paeria.cat
CATEGORIES:Música,Públic,Cultura
CREATED;VALUE=DATE-TIME:20230306T121116Z
LAST-MODIFIED;VALUE=DATE-TIME:20260202T123624Z
URL:https://www.paeria.cat/ca/actualitat/agenda/musiques-per-a-un-nou-mon-
 amb-lorquestra-simfonica-del-gran-teatre-del-liceu-amb-feliu-gasull-i-silv
 ia-perez-cruz
END:VEVENT
BEGIN:VTIMEZONE
TZID:Europe/Madrid
X-LIC-LOCATION:Europe/Madrid
BEGIN:DAYLIGHT
DTSTART;VALUE=DATE-TIME:20230326T030000
TZNAME:CEST
TZOFFSETFROM:+0100
TZOFFSETTO:+0200
END:DAYLIGHT
END:VTIMEZONE
END:VCALENDAR
