BEGIN:VCALENDAR
VERSION:2.0
PRODID:-//Plone.org//NONSGML plone.app.event//EN
X-WR-TIMEZONE:Europe/Madrid
BEGIN:VEVENT
SUMMARY:Noves incorporacions al Roda Roda
DTSTART;TZID=Europe/Madrid;VALUE=DATE-TIME:20241105T110000
DTEND;TZID=Europe/Madrid;VALUE=DATE-TIME:20250209T140000
DTSTAMP;VALUE=DATE-TIME:20260421T210803Z
UID:611c5fdc21b24fd69c2b498cad917168@www.paeria.cat
CATEGORIES:Exposicions
CREATED;VALUE=DATE-TIME:20241009T085429Z
DESCRIPTION:El Museu Roda Roda presenta les novetats a la col·lecció. So
 n peces molt diverses i curioses\, donades per particulars: un Austin Vict
 òria de 1973\, donat per Joan Solé i M. Carme Pla\; dotze caixes d'eines
  de taller i un cartell de Pegaso\, procedents de Tallers Bellí\, donats 
 per Màrius Bellí Fransi\, fundador de l'empresa\; i un comprovador de mo
 tors\, donat per Manel Lloret.
LAST-MODIFIED;VALUE=DATE-TIME:20250127T131520Z
URL:https://www.paeria.cat/ca/actualitat/agenda/noves-incorporacions-al-ro
 da-roda
END:VEVENT
BEGIN:VTIMEZONE
TZID:Europe/Madrid
X-LIC-LOCATION:Europe/Madrid
BEGIN:STANDARD
DTSTART;VALUE=DATE-TIME:20241027T020000
TZNAME:CET
TZOFFSETFROM:+0200
TZOFFSETTO:+0100
END:STANDARD
END:VTIMEZONE
END:VCALENDAR
