BEGIN:VCALENDAR
VERSION:2.0
PRODID:-//Plone.org//NONSGML plone.app.event//EN
X-WR-TIMEZONE:Europe/Madrid
BEGIN:VEVENT
SUMMARY:INTANGIBLE. Festival d’art_tecnologia _  EL DO DE LES LLENGÜES\
 , a càrrec d’Érik Bullot\, cineasta i teòric
DTSTART;TZID=Europe/Madrid;VALUE=DATE-TIME:20231023T180000
DTEND;TZID=Europe/Madrid;VALUE=DATE-TIME:20231023T190000
DTSTAMP;VALUE=DATE-TIME:20260423T022432Z
UID:13467405e0054d2ab2c7ae35de07ce41@www.paeria.cat
CATEGORIES:Xerrades i conferències,Cinema i vídeo
CREATED;VALUE=DATE-TIME:20231009T165112Z
LAST-MODIFIED;VALUE=DATE-TIME:20251104T135449Z
URL:https://www.paeria.cat/ca/actualitat/agenda/ntangible-festival-d2019ar
 t_tecnologia-_-el-do-de-les-llengues-a-carrec-d2019erik-bullot-cineasta-i-
 teoric
END:VEVENT
BEGIN:VTIMEZONE
TZID:Europe/Madrid
X-LIC-LOCATION:Europe/Madrid
BEGIN:DAYLIGHT
DTSTART;VALUE=DATE-TIME:20230326T030000
TZNAME:CEST
TZOFFSETFROM:+0100
TZOFFSETTO:+0200
END:DAYLIGHT
END:VTIMEZONE
END:VCALENDAR
