BEGIN:VCALENDAR
VERSION:2.0
PRODID:-//Plone.org//NONSGML plone.app.event//EN
X-WR-TIMEZONE:Europe/Madrid
BEGIN:VEVENT
SUMMARY:Partit de futbol solidari del Lleida esportiu\, en benefici de Lle
 ida pels Refugiats
DTSTART;TZID=Europe/Madrid;VALUE=DATE-TIME:20240114T170000
DTEND;TZID=Europe/Madrid;VALUE=DATE-TIME:20240114T183000
DTSTAMP;VALUE=DATE-TIME:20260422T210032Z
UID:d312d0f2793c4f8b81a64821bf837f9d@www.paeria.cat
CATEGORIES:Esports,Ciutadania
CREATED;VALUE=DATE-TIME:20240112T121304Z
DESCRIPTION:El dia 14 de gener a les 17:00h gaudeix del partit entre el Ll
 eida Esportiu i el Club de Futbol La Nucía\, i col·labora amb Lleida pel
 s Refugiats amb la donació de productes mèdics\, higiènics i/o alimenta
 ris. \nEntrada gratuïta portant una ampolla d'oli d'oliva d'1 litre!\nA m
 és\, a la porta 1 trobareu un stand amb samarretes\, bossesm xapes i llib
 res de l'entitat Lleida pels refugiats!
LAST-MODIFIED;VALUE=DATE-TIME:20250514T121022Z
URL:https://www.paeria.cat/ca/actualitat/agenda/partit-de-futbol-solidari-
 del-lleida-esportiu-en-benefici-de-lleida-pels-refugiats
END:VEVENT
BEGIN:VTIMEZONE
TZID:Europe/Madrid
X-LIC-LOCATION:Europe/Madrid
BEGIN:STANDARD
DTSTART;VALUE=DATE-TIME:20231029T020000
TZNAME:CET
TZOFFSETFROM:+0200
TZOFFSETTO:+0100
END:STANDARD
END:VTIMEZONE
END:VCALENDAR
