BEGIN:VCALENDAR
VERSION:2.0
PRODID:-//Plone.org//NONSGML plone.app.event//EN
X-WR-TIMEZONE:Europe/Madrid
BEGIN:VEVENT
SUMMARY:PEP VIDAL. PALÍNDROM. D’UNA CABANA PER ACABAR LA TESI A...UNA T
 ESI PER ACABAR LA CABANA  A CURA DE CHAT GPT.
DTSTART;TZID=Europe/Madrid;VALUE=DATE-TIME:20251025T120000
DTEND;TZID=Europe/Madrid;VALUE=DATE-TIME:20260201T140000
DTSTAMP;VALUE=DATE-TIME:20260419T225020Z
UID:256b4e9ee552442d9c565c855326920b@www.paeria.cat
CREATED;VALUE=DATE-TIME:20251012T094436Z
LAST-MODIFIED;VALUE=DATE-TIME:20251012T094513Z
URL:https://www.paeria.cat/ca/actualitat/agenda/pep-vidal-palindrom-d2019u
 na-cabana-per-acabar-la-tesi-a-una-tesi-per-acabar-la-cabana-a-cura-de-cha
 t-gpt-1
END:VEVENT
BEGIN:VTIMEZONE
TZID:Europe/Madrid
X-LIC-LOCATION:Europe/Madrid
BEGIN:DAYLIGHT
DTSTART;VALUE=DATE-TIME:20250330T030000
TZNAME:CEST
TZOFFSETFROM:+0100
TZOFFSETTO:+0200
END:DAYLIGHT
BEGIN:STANDARD
DTSTART;VALUE=DATE-TIME:20251026T020000
TZNAME:CET
TZOFFSETFROM:+0200
TZOFFSETTO:+0100
END:STANDARD
END:VTIMEZONE
END:VCALENDAR
