BEGIN:VCALENDAR
VERSION:2.0
PRODID:-//Plone.org//NONSGML plone.app.event//EN
X-WR-TIMEZONE:Europe/Madrid
BEGIN:VEVENT
SUMMARY:Percussió llatina. Artixoc
DTSTART;TZID=Europe/Madrid;VALUE=DATE-TIME:20250322T183000
DTEND;TZID=Europe/Madrid;VALUE=DATE-TIME:20250322T192000
DTSTAMP;VALUE=DATE-TIME:20260421T181648Z
UID:d0b5b2bb0f4f4487834b30c379e385c5@www.paeria.cat
CATEGORIES:Cultura,Música,Familiar
CREATED;VALUE=DATE-TIME:20241223T090446Z
DESCRIPTION:Concert familiar. + 10
LAST-MODIFIED;VALUE=DATE-TIME:20250317T085140Z
URL:https://www.paeria.cat/ca/actualitat/agenda/percussio-llatina-artixoc
END:VEVENT
BEGIN:VTIMEZONE
TZID:Europe/Madrid
X-LIC-LOCATION:Europe/Madrid
BEGIN:STANDARD
DTSTART;VALUE=DATE-TIME:20241027T020000
TZNAME:CET
TZOFFSETFROM:+0200
TZOFFSETTO:+0100
END:STANDARD
END:VTIMEZONE
END:VCALENDAR
