BEGIN:VCALENDAR
VERSION:2.0
PRODID:-//Plone.org//NONSGML plone.app.event//EN
X-WR-TIMEZONE:Europe/Madrid
BEGIN:VEVENT
SUMMARY:Philip Glass Violin Concerto & West Side Story . Leticia Moreno & 
 Franz Schubert Filharmonia
DTSTART;TZID=Europe/Madrid;VALUE=DATE-TIME:20260117T200000
DTEND;TZID=Europe/Madrid;VALUE=DATE-TIME:20260117T220000
DTSTAMP;VALUE=DATE-TIME:20260422T102735Z
UID:2e802d25e13a4b8ab981a842a145e4c3@www.paeria.cat
CATEGORIES:Cultura,Música
CREATED;VALUE=DATE-TIME:20250721T095210Z
LAST-MODIFIED;VALUE=DATE-TIME:20251111T131703Z
URL:https://www.paeria.cat/ca/actualitat/agenda/philip-glass-violin-concer
 to-west-side-story-leticia-moreno-franz-schubert-filharmonia
END:VEVENT
BEGIN:VTIMEZONE
TZID:Europe/Madrid
X-LIC-LOCATION:Europe/Madrid
BEGIN:STANDARD
DTSTART;VALUE=DATE-TIME:20251026T020000
TZNAME:CET
TZOFFSETFROM:+0200
TZOFFSETTO:+0100
END:STANDARD
END:VTIMEZONE
END:VCALENDAR
