BEGIN:VCALENDAR
VERSION:2.0
PRODID:-//Plone.org//NONSGML plone.app.event//EN
X-WR-TIMEZONE:Europe/Madrid
BEGIN:VEVENT
SUMMARY:POESIA LLEIDA AL MERCAT - Acció poètica al carrer
DTSTART;TZID=Europe/Madrid;VALUE=DATE-TIME:20240321T110000
DTEND;TZID=Europe/Madrid;VALUE=DATE-TIME:20240321T120000
DTSTAMP;VALUE=DATE-TIME:20260422T145250Z
UID:5b146d4aa3894aac9870edc473a1ba43@www.paeria.cat
CATEGORIES:Llibres i literatura
CREATED;VALUE=DATE-TIME:20240301T075933Z
DESCRIPTION:Dia Mundial de la Poesia i Dia Mundial de la Síndrome de Down
LAST-MODIFIED;VALUE=DATE-TIME:20251104T135615Z
URL:https://www.paeria.cat/ca/actualitat/agenda/poesia-lleida-al-mercat-ac
 cio-poetica-al-carrer
END:VEVENT
BEGIN:VTIMEZONE
TZID:Europe/Madrid
X-LIC-LOCATION:Europe/Madrid
BEGIN:STANDARD
DTSTART;VALUE=DATE-TIME:20231029T020000
TZNAME:CET
TZOFFSETFROM:+0200
TZOFFSETTO:+0100
END:STANDARD
END:VTIMEZONE
END:VCALENDAR
