BEGIN:VCALENDAR
VERSION:2.0
PRODID:-//Plone.org//NONSGML plone.app.event//EN
X-WR-TIMEZONE:Europe/Madrid
BEGIN:VEVENT
SUMMARY:POESIA LLEIDA ENTRA A LES LLIBRERIES - Poemes en viu
DTSTART;TZID=Europe/Madrid;VALUE=DATE-TIME:20240318T120000
DTEND;TZID=Europe/Madrid;VALUE=DATE-TIME:20240318T130000
DTSTAMP;VALUE=DATE-TIME:20260423T122701Z
UID:1d05b68a212a4bd9817ca64e7de0173b@www.paeria.cat
CATEGORIES:Llibres i literatura
CREATED;VALUE=DATE-TIME:20240301T070512Z
LAST-MODIFIED;VALUE=DATE-TIME:20251104T135615Z
URL:https://www.paeria.cat/ca/actualitat/agenda/poesia-lleida-entra-a-les-
 llibreries-poemes-en-viu
END:VEVENT
BEGIN:VTIMEZONE
TZID:Europe/Madrid
X-LIC-LOCATION:Europe/Madrid
BEGIN:STANDARD
DTSTART;VALUE=DATE-TIME:20231029T020000
TZNAME:CET
TZOFFSETFROM:+0200
TZOFFSETTO:+0100
END:STANDARD
END:VTIMEZONE
END:VCALENDAR
