BEGIN:VCALENDAR
VERSION:2.0
PRODID:-//Plone.org//NONSGML plone.app.event//EN
X-WR-TIMEZONE:Europe/Madrid
BEGIN:VEVENT
SUMMARY:Premis literaris 2023 - Acció ARTICULANT JOSEP VALLVERDÚ
DTSTART;TZID=Europe/Madrid;VALUE=DATE-TIME:20231114T190000
DTEND;TZID=Europe/Madrid;VALUE=DATE-TIME:20231114T210000
DTSTAMP;VALUE=DATE-TIME:20260422T215202Z
UID:b155873898434552ab25d200ee6807eb@www.paeria.cat
CATEGORIES:Cultura,Llibres i literatura
CREATED;VALUE=DATE-TIME:20231103T112937Z
LAST-MODIFIED;VALUE=DATE-TIME:20251104T135449Z
URL:https://www.paeria.cat/ca/actualitat/agenda/premis-literaris-2023-acci
 o-articulant-josep-vallverdu
END:VEVENT
BEGIN:VTIMEZONE
TZID:Europe/Madrid
X-LIC-LOCATION:Europe/Madrid
BEGIN:STANDARD
DTSTART;VALUE=DATE-TIME:20231029T020000
TZNAME:CET
TZOFFSETFROM:+0200
TZOFFSETTO:+0100
END:STANDARD
END:VTIMEZONE
END:VCALENDAR
