BEGIN:VCALENDAR
VERSION:2.0
PRODID:-//Plone.org//NONSGML plone.app.event//EN
X-WR-TIMEZONE:Europe/Madrid
BEGIN:VEVENT
SUMMARY:Preparem l’eclipsi!
DTSTART;TZID=Europe/Madrid;VALUE=DATE-TIME:20260613T103000
DTEND;TZID=Europe/Madrid;VALUE=DATE-TIME:20260613T123000
DTSTAMP;VALUE=DATE-TIME:20260423T192658Z
UID:caa76767e32c405baec92ec4d324185e@www.paeria.cat
RRULE:FREQ=WEEKLY;UNTIL=20260725T000000;BYDAY=SA
EXDATE;TZID=Europe/Madrid:20260620T000000,20260627T000000,20260704T000000,
 20260718T000000
CATEGORIES:Dies assenyalats,Ciències i tecnologies,Tots els públics
CREATED;VALUE=DATE-TIME:20260423T074040Z
DESCRIPTION:Activitat de formació per l'eclipsi solar total que es podrà
  veure a Lleida el 12 d'agost\, amb explicació del fenòmen\, com veure'l
  en la seva plenitud i consells d'observació. L'activitat consta d'una xe
 rrada divulgativa a les 11h a la Sala Alfred Perenya i un taller pràctic 
 a l'av. Blondel\, que es pot fer abans (a les 10.30h) o després (a les 12
 h).
LAST-MODIFIED;VALUE=DATE-TIME:20260423T075153Z
URL:https://www.paeria.cat/ca/actualitat/agenda/preparem-l2019eclipsi
END:VEVENT
BEGIN:VTIMEZONE
TZID:Europe/Madrid
X-LIC-LOCATION:Europe/Madrid
BEGIN:DAYLIGHT
DTSTART;VALUE=DATE-TIME:20260329T030000
TZNAME:CEST
TZOFFSETFROM:+0100
TZOFFSETTO:+0200
END:DAYLIGHT
END:VTIMEZONE
END:VCALENDAR
