BEGIN:VCALENDAR
VERSION:2.0
PRODID:-//Plone.org//NONSGML plone.app.event//EN
X-WR-TIMEZONE:Europe/Madrid
BEGIN:VEVENT
SUMMARY:Presentació de l'entrevista al moliner
DTSTART;TZID=Europe/Madrid;VALUE=DATE-TIME:20260418T110000
DTEND;TZID=Europe/Madrid;VALUE=DATE-TIME:20260418T120000
DTSTAMP;VALUE=DATE-TIME:20260423T180600Z
UID:3f63187c9e5b4e549647f4dc4b5f3c39@www.paeria.cat
CATEGORIES:Itineraris i visites,Exposicions
CREATED;VALUE=DATE-TIME:20260305T085036Z
DESCRIPTION:Josep Figueras va ser el darrer moliner del Molí de Sant Anas
 tasi. Als anys 90\, quan el molí va passar a mans municipals\, se li va f
 er una entrevista per deixar testimoni del seu treball i la seva vida. El 
 Museu de l'Aigua ha recuperat el document i el presenta en el marc de la S
 etmana Cultural de la Bordeta. El vídeo es podrà veure permanentment a l
 'exposició del molí\, visitable tots els diumenges i festius d'11 a 14h.
LAST-MODIFIED;VALUE=DATE-TIME:20260305T085558Z
URL:https://www.paeria.cat/ca/actualitat/agenda/presentacio-de-lentrevista
 -al-moliner
END:VEVENT
BEGIN:VTIMEZONE
TZID:Europe/Madrid
X-LIC-LOCATION:Europe/Madrid
BEGIN:DAYLIGHT
DTSTART;VALUE=DATE-TIME:20260329T030000
TZNAME:CEST
TZOFFSETFROM:+0100
TZOFFSETTO:+0200
END:DAYLIGHT
END:VTIMEZONE
END:VCALENDAR
