BEGIN:VCALENDAR
VERSION:2.0
PRODID:-//Plone.org//NONSGML plone.app.event//EN
X-WR-TIMEZONE:Europe/Madrid
BEGIN:VEVENT
SUMMARY:Presentació de l'Itinerari Magre. Recorregut dins l’exposició 
 Arrels i horitzons. Més d’un segle d’art
DTSTART;TZID=Europe/Madrid;VALUE=DATE-TIME:20240612T180000
DTEND;TZID=Europe/Madrid;VALUE=DATE-TIME:20240612T190000
DTSTAMP;VALUE=DATE-TIME:20260421T033126Z
UID:d84ac3bd19b14eed91004a2b1c8d6b27@www.paeria.cat
CATEGORIES:Cultura,Itineraris i visites
CREATED;VALUE=DATE-TIME:20240612T101135Z
LAST-MODIFIED;VALUE=DATE-TIME:20240612T104024Z
URL:https://www.paeria.cat/ca/actualitat/agenda/presentacio-de-litinerari-
 magre-recorregut-dins-l2019exposicio-arrels-i-horitzons-mes-d2019un-segle-
 d2019art
END:VEVENT
BEGIN:VTIMEZONE
TZID:Europe/Madrid
X-LIC-LOCATION:Europe/Madrid
BEGIN:DAYLIGHT
DTSTART;VALUE=DATE-TIME:20240331T030000
TZNAME:CEST
TZOFFSETFROM:+0100
TZOFFSETTO:+0200
END:DAYLIGHT
END:VTIMEZONE
END:VCALENDAR
