BEGIN:VCALENDAR
VERSION:2.0
PRODID:-//Plone.org//NONSGML plone.app.event//EN
X-WR-TIMEZONE:Europe/Madrid
BEGIN:VEVENT
SUMMARY:Presentació del llibre “FRÀGIL” d'Esther Canelles i joc part
 icipatiu Maleta Violeta
DTSTART;TZID=Europe/Madrid;VALUE=DATE-TIME:20251124T180000
DTEND;TZID=Europe/Madrid;VALUE=DATE-TIME:20251124T190000
DTSTAMP;VALUE=DATE-TIME:20260422T131800Z
UID:9d9058ba5b514ff5aab77ffa5850d547@www.paeria.cat
CATEGORIES:1000 ulls,Llibres i literatura,Joves,Dona
CREATED;VALUE=DATE-TIME:20251111T084040Z
DESCRIPTION:Organitza: Lleida Jove i Casal de la Dona - Ajuntament de Llei
 da\nInscripció prèvia només pel taller\, joves de 12 a 18 anys\, al 973
  700 666 o presencialment a Lleida Jove.\nUna història valenta sobre la p
 ressió social\, l'amor propi i la necessitat de parlar del que encara fa 
 vergonya dir.
LAST-MODIFIED;VALUE=DATE-TIME:20251124T095216Z
URL:https://www.paeria.cat/ca/actualitat/agenda/presentacio-del-llibre-201
 cfragil201d-desther-canelles-i-joc-participatiu-maleta-violeta
END:VEVENT
BEGIN:VTIMEZONE
TZID:Europe/Madrid
X-LIC-LOCATION:Europe/Madrid
BEGIN:STANDARD
DTSTART;VALUE=DATE-TIME:20251026T020000
TZNAME:CET
TZOFFSETFROM:+0200
TZOFFSETTO:+0100
END:STANDARD
END:VTIMEZONE
END:VCALENDAR
