BEGIN:VCALENDAR
VERSION:2.0
PRODID:-//Plone.org//NONSGML plone.app.event//EN
X-WR-TIMEZONE:Europe/Madrid
BEGIN:VEVENT
SUMMARY:Presentació del llibre- España dividida según acostumbran los g
 eógrafos. Origen y evolución del mapa
DTSTART;TZID=Europe/Madrid;VALUE=DATE-TIME:20241030T180000
DTSTAMP;VALUE=DATE-TIME:20260422T165639Z
UID:e40d8cf779984948ad64788d0bdc0659@www.paeria.cat
CATEGORIES:Cultura,Llibres i literatura
CREATED;VALUE=DATE-TIME:20241018T075458Z
LAST-MODIFIED;VALUE=DATE-TIME:20250514T125343Z
URL:https://www.paeria.cat/ca/actualitat/agenda/presentacio-del-llibre-esp
 ana-dividida-segun-acostumbran-los-geografos-origen-y-evolucion-del-mapa
END:VEVENT
BEGIN:VTIMEZONE
TZID:Europe/Madrid
X-LIC-LOCATION:Europe/Madrid
BEGIN:STANDARD
DTSTART;VALUE=DATE-TIME:20241027T020000
TZNAME:CET
TZOFFSETFROM:+0200
TZOFFSETTO:+0100
END:STANDARD
END:VTIMEZONE
END:VCALENDAR
