BEGIN:VCALENDAR
VERSION:2.0
PRODID:-//Plone.org//NONSGML plone.app.event//EN
X-WR-TIMEZONE:Europe/Madrid
BEGIN:VEVENT
SUMMARY:Presentació del llibre Pinzellades del Segrià
DTSTART;TZID=Europe/Madrid;VALUE=DATE-TIME:20260422T190000
DTEND;TZID=Europe/Madrid;VALUE=DATE-TIME:20260422T203000
DTSTAMP;VALUE=DATE-TIME:20260422T204900Z
UID:fab0ec7a251d45148268929f5ddccf74@www.paeria.cat
CATEGORIES:Llibres i literatura,Cultura
CREATED;VALUE=DATE-TIME:20260306T115707Z
DESCRIPTION:Programa de Sant Jordi --\n\nPresentació del llibre Pinzellad
 es del Segrià de Ramon Farré amb textos de Quintí Casals\, editat per P
 agès editors.
LAST-MODIFIED;VALUE=DATE-TIME:20260420T085235Z
URL:https://www.paeria.cat/ca/actualitat/agenda/presentacio-del-llibre-pin
 zellades-del-segria
END:VEVENT
BEGIN:VTIMEZONE
TZID:Europe/Madrid
X-LIC-LOCATION:Europe/Madrid
BEGIN:DAYLIGHT
DTSTART;VALUE=DATE-TIME:20260329T030000
TZNAME:CEST
TZOFFSETFROM:+0100
TZOFFSETTO:+0200
END:DAYLIGHT
END:VTIMEZONE
END:VCALENDAR
