BEGIN:VCALENDAR
VERSION:2.0
PRODID:-//Plone.org//NONSGML plone.app.event//EN
X-WR-TIMEZONE:Europe/Madrid
BEGIN:VEVENT
SUMMARY:Presentació del llibre Sonidos para tu bienestar
DTSTART;TZID=Europe/Madrid;VALUE=DATE-TIME:20260427T190000
DTEND;TZID=Europe/Madrid;VALUE=DATE-TIME:20260427T203000
DTSTAMP;VALUE=DATE-TIME:20260422T055009Z
UID:f386634f60af4b7c8b24803c88daebe7@www.paeria.cat
CATEGORIES:Llibres i literatura,Cultura
CREATED;VALUE=DATE-TIME:20260306T120636Z
DESCRIPTION:Programa de Sant Jordi --\n\nPresentació del llibre Sonidos p
 ara tu bienestar (Ed. Plataforma)\, de Jordi A. Jauset (Doctor en Comunica
 ció\, enginyer superior de Telecomunicació i professor de piano)\, a cà
 rrec del propi autor i de la metgessa Montse Pedrico Serradell.
LAST-MODIFIED;VALUE=DATE-TIME:20260415T085354Z
URL:https://www.paeria.cat/ca/actualitat/agenda/presentacio-del-llibre-son
 idos-para-tu-bienestar
END:VEVENT
BEGIN:VTIMEZONE
TZID:Europe/Madrid
X-LIC-LOCATION:Europe/Madrid
BEGIN:DAYLIGHT
DTSTART;VALUE=DATE-TIME:20260329T030000
TZNAME:CEST
TZOFFSETFROM:+0100
TZOFFSETTO:+0200
END:DAYLIGHT
END:VTIMEZONE
END:VCALENDAR
