BEGIN:VCALENDAR
VERSION:2.0
PRODID:-//Plone.org//NONSGML plone.app.event//EN
X-WR-TIMEZONE:Europe/Madrid
BEGIN:VEVENT
SUMMARY:Presentació del llibre- Tenemos que hablar y otros cuentos sentim
 entales
DTSTART;TZID=Europe/Madrid;VALUE=DATE-TIME:20240928T120000
DTSTAMP;VALUE=DATE-TIME:20260423T051919Z
UID:ddfacfdebf4b48109c70690048d726c9@www.paeria.cat
CATEGORIES:Cultura,Llibres i literatura
CREATED;VALUE=DATE-TIME:20240913T065213Z
LAST-MODIFIED;VALUE=DATE-TIME:20250514T125343Z
URL:https://www.paeria.cat/ca/actualitat/agenda/presentacio-del-llibre-ten
 emos-que-hablar-y-otros-cuentos-sentimentales
END:VEVENT
BEGIN:VTIMEZONE
TZID:Europe/Madrid
X-LIC-LOCATION:Europe/Madrid
BEGIN:DAYLIGHT
DTSTART;VALUE=DATE-TIME:20240331T030000
TZNAME:CEST
TZOFFSETFROM:+0100
TZOFFSETTO:+0200
END:DAYLIGHT
END:VTIMEZONE
END:VCALENDAR
